BEGIN:VCALENDAR
VERSION:2.0
PRODID:-//Grace United Church - ECPv6.15.20//NONSGML v1.0//EN
CALSCALE:GREGORIAN
METHOD:PUBLISH
X-ORIGINAL-URL:https://gracedunnville.ca
X-WR-CALDESC:Events for Grace United Church
REFRESH-INTERVAL;VALUE=DURATION:PT1H
X-Robots-Tag:noindex
X-PUBLISHED-TTL:PT1H
BEGIN:VTIMEZONE
TZID:America/Toronto
BEGIN:DAYLIGHT
TZOFFSETFROM:-0500
TZOFFSETTO:-0400
TZNAME:EDT
DTSTART:20190310T070000
END:DAYLIGHT
BEGIN:STANDARD
TZOFFSETFROM:-0400
TZOFFSETTO:-0500
TZNAME:EST
DTSTART:20191103T060000
END:STANDARD
BEGIN:DAYLIGHT
TZOFFSETFROM:-0500
TZOFFSETTO:-0400
TZNAME:EDT
DTSTART:20200308T070000
END:DAYLIGHT
BEGIN:STANDARD
TZOFFSETFROM:-0400
TZOFFSETTO:-0500
TZNAME:EST
DTSTART:20201101T060000
END:STANDARD
BEGIN:DAYLIGHT
TZOFFSETFROM:-0500
TZOFFSETTO:-0400
TZNAME:EDT
DTSTART:20210314T070000
END:DAYLIGHT
BEGIN:STANDARD
TZOFFSETFROM:-0400
TZOFFSETTO:-0500
TZNAME:EST
DTSTART:20211107T060000
END:STANDARD
BEGIN:DAYLIGHT
TZOFFSETFROM:-0500
TZOFFSETTO:-0400
TZNAME:EDT
DTSTART:20220313T070000
END:DAYLIGHT
BEGIN:STANDARD
TZOFFSETFROM:-0400
TZOFFSETTO:-0500
TZNAME:EST
DTSTART:20221106T060000
END:STANDARD
BEGIN:DAYLIGHT
TZOFFSETFROM:-0500
TZOFFSETTO:-0400
TZNAME:EDT
DTSTART:20230312T070000
END:DAYLIGHT
BEGIN:STANDARD
TZOFFSETFROM:-0400
TZOFFSETTO:-0500
TZNAME:EST
DTSTART:20231105T060000
END:STANDARD
BEGIN:DAYLIGHT
TZOFFSETFROM:-0500
TZOFFSETTO:-0400
TZNAME:EDT
DTSTART:20240310T070000
END:DAYLIGHT
BEGIN:STANDARD
TZOFFSETFROM:-0400
TZOFFSETTO:-0500
TZNAME:EST
DTSTART:20241103T060000
END:STANDARD
BEGIN:DAYLIGHT
TZOFFSETFROM:-0500
TZOFFSETTO:-0400
TZNAME:EDT
DTSTART:20250309T070000
END:DAYLIGHT
BEGIN:STANDARD
TZOFFSETFROM:-0400
TZOFFSETTO:-0500
TZNAME:EST
DTSTART:20251102T060000
END:STANDARD
BEGIN:DAYLIGHT
TZOFFSETFROM:-0500
TZOFFSETTO:-0400
TZNAME:EDT
DTSTART:20260308T070000
END:DAYLIGHT
BEGIN:STANDARD
TZOFFSETFROM:-0400
TZOFFSETTO:-0500
TZNAME:EST
DTSTART:20261101T060000
END:STANDARD
END:VTIMEZONE
BEGIN:VEVENT
DTSTART;VALUE=DATE:20250427
DTEND;VALUE=DATE:20250428
DTSTAMP:20260419T233604
CREATED:20220418T023713Z
LAST-MODIFIED:20220418T023713Z
UID:10001738-1745712000-1745798399@gracedunnville.ca
SUMMARY:Camping Sunday
DESCRIPTION:Camping Sunday is traditionally celebrated on the fourth Sunday in April
URL:https://gracedunnville.ca/calendar-event/camping-sunday/2025-04-27/
LOCATION:Dunnville Ont\, Dunnville\, ON\, Canada
CATEGORIES:Celebrations,Community,Youth
END:VEVENT
BEGIN:VEVENT
DTSTART;VALUE=DATE:20240428
DTEND;VALUE=DATE:20240429
DTSTAMP:20260419T233605
CREATED:20220418T023713Z
LAST-MODIFIED:20220418T023713Z
UID:10001737-1714262400-1714348799@gracedunnville.ca
SUMMARY:Camping Sunday
DESCRIPTION:Camping Sunday is traditionally celebrated on the fourth Sunday in April
URL:https://gracedunnville.ca/calendar-event/camping-sunday/2024-04-28/
LOCATION:Dunnville Ont\, Dunnville\, ON\, Canada
CATEGORIES:Celebrations,Community,Youth
END:VEVENT
BEGIN:VEVENT
DTSTART;VALUE=DATE:20230423
DTEND;VALUE=DATE:20230424
DTSTAMP:20260419T233605
CREATED:20220418T023713Z
LAST-MODIFIED:20220418T023713Z
UID:10001736-1682208000-1682294399@gracedunnville.ca
SUMMARY:Camping Sunday
DESCRIPTION:Camping Sunday is traditionally celebrated on the fourth Sunday in April
URL:https://gracedunnville.ca/calendar-event/camping-sunday/2023-04-23/
LOCATION:Dunnville Ont\, Dunnville\, ON\, Canada
CATEGORIES:Celebrations,Community,Youth
END:VEVENT
BEGIN:VEVENT
DTSTART;TZID=America/Toronto:20221012T133000
DTEND;TZID=America/Toronto:20221012T153000
DTSTAMP:20260419T233605
CREATED:20220930T182243Z
LAST-MODIFIED:20220930T183011Z
UID:10001936-1665581400-1665588600@gracedunnville.ca
SUMMARY:The Faces of Dementia Haldimand Gallery Event
DESCRIPTION:In a series of compelling video stories\, and beautiful imagery\, Faces of Dementia is an interactive\nexperience that has been crafted around the stories of people living with dementia and their “I AM\nMORE…” messages that they are MORE than their diagnosis. \nFaces of Dementia Galley Exhibit at MINGA Café\,\nDunnville Ontario\, on Wednesday\, October 12th\, 2022\, from 1:30pm-3:30pm. \nFor more information https://coahamilton.ca/faces-of-dementia/
URL:https://gracedunnville.ca/calendar-event/faces-of-dementia/
LOCATION:Dunnville Ont\, Dunnville\, ON\, Canada
CATEGORIES:Community,Support
ATTACH;FMTTYPE=image/jpeg:https://gracedunnville.ca/wp-content/uploads/2022/09/Faces-of-Dementia.jpg
END:VEVENT
BEGIN:VEVENT
DTSTART;VALUE=DATE:20220424
DTEND;VALUE=DATE:20220425
DTSTAMP:20260419T233605
CREATED:20220418T023713Z
LAST-MODIFIED:20220418T023713Z
UID:10001735-1650758400-1650844799@gracedunnville.ca
SUMMARY:Camping Sunday
DESCRIPTION:Camping Sunday is traditionally celebrated on the fourth Sunday in April
URL:https://gracedunnville.ca/calendar-event/camping-sunday/2022-04-24/
LOCATION:Dunnville Ont\, Dunnville\, ON\, Canada
CATEGORIES:Celebrations,Community,Youth
END:VEVENT
BEGIN:VEVENT
DTSTART;TZID=America/Toronto:20200907T093000
DTEND;TZID=America/Toronto:20200907T120000
DTSTAMP:20260419T233605
CREATED:20200813T035230Z
LAST-MODIFIED:20200817T162353Z
UID:10000583-1599471000-1599480000@gracedunnville.ca
SUMMARY:Run/Walk/Scoot-a-Thon for Dunnville Youth Impact Centre
DESCRIPTION:  \n  \n \n  \n 
URL:https://gracedunnville.ca/calendar-event/run-walk-scoot-a-thon-for-dunnville-youth-impact-centre/
LOCATION:Dunnville Ont\, Dunnville\, ON\, Canada
CATEGORIES:Community,Fund Raise
ATTACH;FMTTYPE=image/png:https://gracedunnville.ca/wp-content/uploads/2020/08/Logo-4.png
END:VEVENT
END:VCALENDAR